BEGIN:VCALENDAR
VERSION:2.0
PRODID:-//hacksw/handcal//NONSGML v1.0//EN
BEGIN:VEVENT
SUMMARY:SHOTGUN SENIORS N°9
UID:c36276cd-7fa0-4743-ac94-1d1b5a0048ee
DTSTART:20260529T070000Z
DTEND:20260529T130000Z
LOCATION:Localisation   
CATEGORIES:Sportif
STATUS:
DESCRIPTION:<p>9eme et avant-dernier shotgun de la saison. Une des
 derniere chances de faire la difference au classement tu Trophee
 Seniors ...</p>
URL;VALUE=URI:https://www.asgolfcornouaille.com/evenements/2026/05/29/shotgun-seniors-n9-2388038
END:VEVENT
END:VCALENDAR
