BEGIN:VCALENDAR
VERSION:2.0
PRODID:-//hacksw/handcal//NONSGML v1.0//EN
BEGIN:VEVENT
SUMMARY:36/53 du 18 avril 2026
UID:ef18db7a-cde9-47bb-9d5e-0efaf39d4fd9
DTSTART:20260418T140000Z
DTEND:20260418T163000Z
LOCATION:Localisation   
CATEGORIES:Sportif
STATUS:
URL;VALUE=URI:https://www.asgolfcornouaille.com/evenements/2026/04/18/3653-du-18-avril-2026-2439260
END:VEVENT
END:VCALENDAR
